Workbook
Name 区分１: [1]参加者名簿!$AF$7:$AK$7
Name 経理区分: [1]【削除禁止】収支簿データ!$A$53:$A$74
Name 助成事業細目: [1]【削除禁止】収支簿データ!$A$2:$A$4

Sheet 基本概要
B1: Ⅰ 基本概要シート | J1: 書式更新 | K1: 44717
B3: ＜実施概要＞ | I3: ＜例＞
B4: 事業名: | I4: 第11回JSCパラトライアスロン強化合宿（2022/湯の丸）
B5: 事業区分: | C5: 合宿 | I5: 合宿 | M5: ＜助成事業一覧＞
B6: 運営主体: | C6: JTUパラトライアスロン ハイパフォーマンスチーム | I6: JTUパラトライアスロン ハイパフォーマンスチーム、JTUトライアスロン ハイパフォーマンスチーム | M6: JOC選手強化NF事業
B7: 助成事業名: | C7: ＜助成事業一覧＞ | I7: JSC次世代ターゲットアスリート育成支援事業、JOC選手強化NF事業 | M7: JSCスポーツ振興くじ助成（JTUタレント発掘育成事業）
B8: 助成事業名: | M8: JSCアスリートパスウェイ推進事業（JSTAR/トライアスロン）
I9: ←その他の場合記入
B10: 実施期間: | C10: 44696 | D10: 〜 | E10: 44697 | F10: =TEXT(C10,"yyyy/mm/dd(aaa)")&"〜"&TEXT(E10,"mm/dd(aaa)") -> 2022/05/15(日)〜05/16(月) | I10: 2022/1/20(木) 〜 2022/1/23(日) | M10: JPC競技力向上事業
C11: 44715 | D11: 〜 | E11: 44715 | F11: =TEXT(C11,"yyyy/mm/dd(aaa)")&"〜"&TEXT(E11,"mm/dd(aaa)") -> 2022/06/03(金)〜06/03(金) | M11: JSC次世代ターゲットアスリート育成支援事業
M12: JSCアスリートパスウェイ推進事業（JSTAR/パラ）
B13: 開催場所: | I13: 長野県東御市 | M13: パラリンピックサポートセンター事業
M14: その他
B15: 宿泊場所: | I15: アスリーツパーク湯の丸ヴィレッジ
B16: 宿泊住所: | I16: 〒389-0501 長野県東御市新張湯の丸高原 1272
B17: 主催: | C17: 公益社団法人日本トライアスロン連合（JTU) | I17: 公益社団法人日本トライアスロン連合（JTU)
B18: 主管: | I18: JTUパラトライアスロン ハイパフォーマンスチーム（HPT）
B19: 協力: | I19: 長野県東御市、長野県トライアスロン協会
B20: 参加人数: | C20: =SUM(C21:C23) -> 0 | D20: 名
B21: 選手: | D21: 名
B22: スタッフ: | D22: 名
B23: 他: | D23: 名
B25: 保険: | C25: JTUが国内旅行保険に加入。 ＜保険の補償内容と金額＞ https://www.jtu.or.jp/wordpress/wp-content/uploads/2020/08/hoken-gassyuku.pdf
M27: ＜保険関連＞
M28: JTUが国内旅行保険に加入。 ＜保険の補償内容と金額＞ https://www.jtu.or.jp/wordpress/wp-content/uploads/2020/08/hoken-gassyuku.pdf
M29: JTUが海外旅行保険に加入。 ＜保険の補償内容と金額＞ https://archive.jtu.or.jp/news/2018/pdf/18-hoken-gassyuku-kaigai.pdf
M30: その他あればここに直接記入
K31: Vol.2.0

Sheet 参加者名簿
A1: Ⅱ | B1: 参加者名簿【保険加入／PCR検査送付登録／派遣依頼書作成】
O3: ◎・・宿泊あり、○・・宿泊なし（チェックアウト日など）
A4: No | B4: 氏名 | C4: 所属 | D4: 性別 | E4: 生年月日 | F4: 役割 | G4: 郵便番号 | H4: 住所（検査キット送付先） | I4: リージョン名 | J4: 費用区分 （自己負担可否） | K4: 派遣依頼書 | N4: 事業参加 初日 | O4: 日付（自動反映） | P4: =基本概要!C10 -> 44696 | Q4: =P4+1 -> 44697 | R4: =Q4+1 -> 44698 | S4: =R4+1 -> 44699 | T4: =S4+1 -> 44700 | U4: =T4+1 -> 44701 | V4: =U4+1 -> 44702 | W4: =V4+1 -> 44703 | X4: =W4+1 -> 44704 | ... AD4: =AC4+1 -> 44710
K5: 送付先組織名 | L5: 送付先宛名 | O5: 事業場所（自動反映） | P5: =基本概要!$C$13 -> 0 | Q5: =基本概要!$C$13 -> 0 | R5: =基本概要!$C$13 -> 0 | S5: =基本概要!$C$13 -> 0 | T5: =基本概要!$C$13 -> 0 | U5: =基本概要!$C$13 -> 0 | V5: =基本概要!$C$13 -> 0 | W5: =基本概要!$C$13 -> 0 | ... AD5: =基本概要!$C$13 -> 0
K6: 例；火災保険株式会社 | L6: 人事部長 田中太郎 | O6: 宿泊者数（自動反映） | P6: =COUNTIF(P8:P27,"◎") -> 0 | Q6: =COUNTIF(Q8:Q27,"◎") -> 0 | R6: =COUNTIF(R8:R27,"◎") -> 0 | S6: =COUNTIF(S8:S27,"◎") -> 0 | T6: =COUNTIF(T8:T27,"◎") -> 0 | U6: =COUNTIF(U8:U27,"◎") -> 0 | V6: =COUNTIF(V8:V27,"◎") -> 0 | W6: =COUNTIF(W8:W27,"◎") -> 0 | ... AD6: =COUNTIF(AD8:AD27,"◎") -> 0
A7: 例 | B7: 田中太郎 | C7: （JTU/東京） | D7: 男 | E7: 31512 | F7: 選手 | G7: 111-1111 | H7: 東京都新宿区霞ヶ丘町4-2 Japan Sport Olympic Square708 | I7: 東京 | J7: 公費（一部自己負担） | K7: 組織名称 | L7: 氏名 | P7: ◎ | Q7: ◎ | R7: ◎ | S7: ◎ | T7: ◎ | U7: ◎ | V7: ◎ | W7: ◎ | X7: ◎ | Y7: ◎ | Z7: ◎ | AA7: ◎ | AB7: ◎ | AC7: ◎ | AD7: ◎
A8: 1 | J8: 公費（JOC）
A9: 2 | J9: ＜選択してください＞
A10: 3 | J10: ＜選択してください＞
A11: 4 | J11: ＜選択してください＞
A12: 5 | J12: ＜選択してください＞
A13: 6 | J13: ＜選択してください＞
A14: 7 | J14: ＜選択してください＞
A15: 8 | J15: ＜選択してください＞
A16: 9 | J16: ＜選択してください＞
A17: 10 | J17: ＜選択してください＞
A18: 11 | J18: ＜選択してください＞
A19: 12 | J19: ＜選択してください＞
... A27: 20 | J27: ＜選択してください＞
J30: ＜選択してください＞
B31: <保険加入> | J31: 自費請求
B32: 申請先：新家 義則 <shinya0726@aroma.ocn.ne.jp> | J32: 公費（JOC）
B33: CC:hpt@jtu.or.jp | J33: 公費（JPC）
B34: 件名：*****事業（＊月保険加入） | J34: 公費（JSTAR）
B35: 書式：本シート | J35: 公費（JSC次世タゲ）
J36: その他
B37: <PCR検査>
B38: 申請先：HISスポーツ事業 島宗 <j-sports@his-world.com>
B39: CC:hpt@jtu.or.jp
B40: 件名：*****事業（＊月保険加入）
B41: 書式：別紙PCRキットシート
B42: ＊保険と同時依頼可

Sheet 緊急連絡先
A1: Ⅲ | B1: 緊急連絡先
A3: ＜共通事項＞
A4: No | C4: 役割 | D4: 区分 | E4: 氏名 | F4: 連絡先 | G4: 備考
A5: 1 | B5: 共通 | C5: JTU事務局 | D5: 専務理事 | E5: 大塚眞一郎 | F5: 090 3204 3126
A6: 2 | B6: 共通 | C6: JTU事務局 | D6: マーケティング事業局長 | E6: 坂田洋治 | F6: 090 4720 6565
A7: 3 | B7: 共通 | C7: JTU事務局 | D7: 事務局次長 | E7: 児玉健太 | F7: 080 1244 8609
A8: 4 | B8: 共通 | C8: JTU事務局 | D8: 事務局主任 | E8: 長江千明 | F8: 080 2052 3869
A9: 5 | B9: 共通 | C9: トライアスロンHPT | D9: ディレクター | E9: 山根英紀 | F9: 090 4812 612
A10: 6 | B10: 共通 | C10: パラトライアスロンHPT | D10: ディレクター | E10: 富川理充 | F10: 090-4025-1383
A11: 7 | B11: 共通 | C11: メディカル委員会 | D11: メディカル委員会 | E11: 笠次良爾（委員長） | F11: 090-2060-9147
A12: 8 | B12: 共通 | C12: メディカル委員会 | D12: メディカル委員会 | E12: 村瀬訓生（副委員長） | F12: 090-4582-0773
A13: 9 | B13: 共通 | C13: メディカル委員会 | D13: メディカル委員会 | E13: 牛島史雄（副委員長） | F13: 090-4582-0773
A14: 10 | B14: 共通 | C14: 保険代理店 | D14: オフィスプラスアルファ | E14: 新家 | F14: 090-8110-2995
A15: 11 | B15: 共通 | C15: 民間検査機関 | D15: エイチ・アイ・エス | E15: 島宗 孝志 | F15: 050-1742-4148/080-9473-9017
A17: 以下、事業毎で入力
A18: 11 | B18: 事業毎 | C18: 事業責任者
A20: 12 | B20: 事業毎 | C20: 主催自治体・主管協会
A21: 13 | B21: 事業毎 | C21: 宿泊先
A22: 14 | B22: 事業毎 | C22: 加盟団体
A23: 16 | B23: 事業毎 | C23: 助成団体
A24: 17 | B24: 事業毎 | C24: 帰国者・接触相談センター
A25: 18 | B25: 事業毎 | C25: 帰国者・接触相談センター
A26: 19 | B26: 事業毎 | C26: 地域の診療所等
A27: 20 | B27: 事業毎
A28: 21 | B28: 事業毎
A29: 22 | B29: 事業毎

Sheet 体調管理シート
C1: 健康管理シート
C3: 【 体温・健康管理・行動記録シート 】
D5: 氏名
D6: 所属
D7: 連絡先（携帯番号）
D9: 1日目 | E9: 2日目 | F9: 3日目 | G9: 4日目 | H9: 5日目 | I9: 6日目 | J9: 当日
D10: 月 日 | E10: 月 日 | F10: 月 日 | G10: 月 日 | H10: 月 日 | I10: 月 日 | J10: 月 日
B11: 1 | C11: 体温（℃） | D11: ℃ | E11: ℃ | F11: ℃ | G11: ℃ | H11: ℃ | I11: ℃ | J11: ℃
B12: 2 | C12: 体調 ５段階評価：５良い〜１悪い
C13: ■ 本日の体調で気になることがあれば、該当項目にチェックしてください（複数回答可）
C14: 以下のいずれも該当なし | D14: □ | E14: □ | F14: □ | G14: □ | H14: □ | I14: □ | J14: □
B15: 3 | C15: 咳がある | D15: □ | E15: □ | F15: □ | G15: □ | H15: □ | I15: □ | J15: □
B16: 4 | C16: 喉に痛みがある | D16: □ | E16: □ | F16: □ | G16: □ | H16: □ | I16: □ | J16: □
B17: 5 | C17: 筋肉や関節に痛みや腫れがある | D17: □ | E17: □ | F17: □ | G17: □ | H17: □ | I17: □ | J17: □
B18: 6 | C18: 寒気や震えがある | D18: □ | E18: □ | F18: □ | G18: □ | H18: □ | I18: □ | J18: □
B19: 7 | C19: 全身がだるい | D19: □ | E19: □ | F19: □ | G19: □ | H19: □ | I19: □ | J19: □
B20: 8 | C20: 頭痛がある | D20: □ | E20: □ | F20: □ | G20: □ | H20: □ | I20: □ | J20: □
B21: 9 | C21: 下痢がある | D21: □ | E21: □ | F21: □ | G21: □ | H21: □ | I21: □ | J21: □
B22: 10 | C22: 息切れがする | D22: □ | E22: □ | F22: □ | G22: □ | H22: □ | I22: □ | J22: □
B23: 11 | C23: 息苦しい | D23: □ | E23: □ | F23: □ | G23: □ | H23: □ | I23: □ | J23: □
B24: 12 | C24: 臭覚や味覚に異常を感じる | D24: □ | E24: □ | F24: □ | G24: □ | H24: □ | I24: □ | J24: □
B25: 13 | C25: その他、普段とは体の調子が異なる | D25: □ | E25: □ | F25: □ | G25: □ | H25: □ | I25: □ | J25: □
C26: ■ 日常生活で気になることがあれば、該当項目にチェックしてください（複数回答可）
B27: 14 | C27: 外出の際、マスクを忘れることがある | D27: □ | E27: □ | F27: □ | G27: □ | H27: □ | I27: □ | J27: □
B28: 15 | C28: 頻回の手洗い、手指消毒を忘れることがある | D28: □ | E28: □ | F28: □ | G28: □ | H28: □ | I28: □ | J28: □
B29: 16 | C29: ソーシャルディスタンスを忘れてしまうことがある | D29: □ | E29: □ | F29: □ | G29: □ | H29: □ | I29: □ | J29: □
B30: 17 | C30: 接触確認アプリ（COCOA)からアラートがきた | D30: □ | E30: □ | F30: □ | G30: □ | H30: □ | I30: □ | J30: □
B31: 18 | C31: 同居家族や身近な知人に感染が疑われる方がいる | D31: □ | E31: □ | F31: □ | G31: □ | H31: □ | I31: □ | J31: □
B32: 19 | C32: 過去14日以内に政府から入国制限、入国後の観察期間を必要とされている国、地域等への渡航又は当該在住者との濃厚接触がある場合 | D32: □ | E32: □ | F32: □ | G32: □ | H32: □ | I32: □ | J32: □
B33: 20 | C33: 出張、遠征などで長距離の移動があった | D33: □ | E33: □ | F33: □ | G33: □ | H33: □ | I33: □ | J33: □
B34: 21 | C34: 大人数（5名以上）での会食をした | D34: □ | E34: □ | F34: □ | G34: □ | H34: □ | I34: □ | J34: □
B35: 22 | C35: 大人数のイベントへ参加した | D35: □ | E35: □ | F35: □ | G35: □ | H35: □ | I35: □ | J35: □
C36: ※下記に該当する場合は来場を控えて頂きますので、必ず来場前に連絡してください
C37: ①上記1（体温）が37.5℃以上の日が、4日前から当日までの間に一日でもあった場合
C38: ②上記３～１２のうち一つでも、4日前から当日まで続いた場合
C39: ③上記17～19のうち一つでも、1週間前から当日までの間に該当した場合
C40: ※上記の17～22に該当する場合、「誰」と「どこで」「何時から何時まで」にその状況があったか、必ず日誌やカレンダーに記録を残してください。 感染者が発生したときにお伺いすることがあります。

Sheet PCRキット（自動反映）
A1: PCR検査送付用
B2: 対象者氏名 | C2: 発送先郵便番号 | D2: 発送先住所 | E2: 電話番号 | F2: 事業開始 | G2: 結果 | H2: 事業年度 | I2: 事業区分 | J2: 事業名 | K2: 備考
A3: 例 | B3: =参加者名簿!B7 -> 田中太郎 | C3: =参加者名簿!G7 -> 111-1111 | D3: =参加者名簿!H7 -> 東京都新宿区霞ヶ丘町4-2 Japan Sport Olympic Square708 | I3: =参加者名簿!J7 -> 公費（一部自己負担） | J3: =基本概要!$C$4 -> 0
A4: 1 | B4: =参加者名簿!B8 -> 0 | C4: =参加者名簿!G8 -> 0 | D4: =参加者名簿!H8 -> 0 | E4: 080-2226-8561 | F4: =参加者名簿!$N$8 -> 0 | I4: =参加者名簿!J8 -> 公費（JOC） | J4: =基本概要!$C$4 -> 0
A5: 2 | B5: =参加者名簿!B9 -> 0 | C5: =参加者名簿!G9 -> 0 | D5: =参加者名簿!H9 -> 0 | E5: 090-2951-9736 | F5: =参加者名簿!$N$9 -> 0 | I5: =参加者名簿!J9 -> ＜選択してください＞ | J5: =基本概要!$C$4 -> 0
A6: 3 | B6: =参加者名簿!B10 -> 0 | C6: =参加者名簿!G10 -> 0 | D6: =参加者名簿!H10 -> 0 | E6: 0865-44-6727 | F6: =参加者名簿!$N$10 -> 0 | I6: =参加者名簿!J10 -> ＜選択してください＞ | J6: =基本概要!$C$4 -> 0
A7: 4 | B7: =参加者名簿!B11 -> 0 | C7: =参加者名簿!G11 -> 0 | D7: =参加者名簿!H11 -> 0 | E7: 090-8400-3159 | F7: =参加者名簿!$N$11 -> 0 | I7: =参加者名簿!J11 -> ＜選択してください＞ | J7: =基本概要!$C$4 -> 0
A8: 5 | B8: =参加者名簿!B12 -> 0 | C8: =参加者名簿!G12 -> 0 | D8: =参加者名簿!H12 -> 0 | E8: 075-212-3262 | F8: =参加者名簿!$N$12 -> 0 | I8: =参加者名簿!J12 -> ＜選択してください＞ | J8: =基本概要!$C$4 -> 0
A9: 6 | B9: =参加者名簿!B13 -> 0 | C9: =参加者名簿!G13 -> 0 | D9: =参加者名簿!H13 -> 0 | E9: 052-777-2704 | F9: =参加者名簿!$N$13 -> 0 | I9: =参加者名簿!J13 -> ＜選択してください＞ | J9: =基本概要!$C$4 -> 0
A10: 7 | B10: =参加者名簿!B14 -> 0 | C10: =参加者名簿!G14 -> 0 | D10: =参加者名簿!H14 -> 0 | E10: 090-7834-3209 | F10: =参加者名簿!$N$14 -> 0 | I10: =参加者名簿!J14 -> ＜選択してください＞ | J10: =基本概要!$C$4 -> 0
A11: 8 | B11: =参加者名簿!B15 -> 0 | C11: =参加者名簿!G15 -> 0 | D11: =参加者名簿!H15 -> 0 | E11: 080-6943-8961 | F11: =参加者名簿!$N$16 -> 0 | I11: =参加者名簿!J15 -> ＜選択してください＞ | J11: =基本概要!$C$4 -> 0
A12: 9 | B12: =参加者名簿!B16 -> 0 | C12: =参加者名簿!G16 -> 0 | D12: =参加者名簿!H16 -> 0 | F12: =参加者名簿!$N$17 -> 0 | I12: =参加者名簿!J16 -> ＜選択してください＞ | J12: =基本概要!$C$4 -> 0
A13: 10 | B13: =参加者名簿!B17 -> 0 | C13: =参加者名簿!G17 -> 0 | D13: =参加者名簿!H17 -> 0 | F13: =参加者名簿!$N$18 -> 0 | I13: =参加者名簿!J17 -> ＜選択してください＞ | J13: =基本概要!$C$4 -> 0
A14: 11 | B14: =参加者名簿!B18 -> 0 | C14: =参加者名簿!G18 -> 0 | D14: =参加者名簿!H18 -> 0 | F14: =参加者名簿!$N$19 -> 0 | I14: =参加者名簿!J18 -> ＜選択してください＞ | J14: =基本概要!$C$4 -> 0
A15: 12 | B15: =参加者名簿!B19 -> 0 | C15: =参加者名簿!G19 -> 0 | D15: =参加者名簿!H19 -> 0 | F15: =参加者名簿!$N$24 -> 0 | I15: =参加者名簿!J19 -> ＜選択してください＞ | J15: =基本概要!$C$4 -> 0
A16: 13 | B16: =参加者名簿!B24 -> 0 | C16: =参加者名簿!G24 -> 0 | D16: =参加者名簿!H24 -> 0 | F16: =参加者名簿!$N$25 -> 0 | I16: =参加者名簿!J24 -> ＜選択してください＞ | J16: =基本概要!$C$4 -> 0
A17: 14 | B17: =参加者名簿!B25 -> 0 | C17: =参加者名簿!G25 -> 0 | D17: =参加者名簿!H25 -> 0 | F17: =参加者名簿!$N$26 -> 0 | I17: =参加者名簿!J25 -> ＜選択してください＞ | J17: =基本概要!$C$4 -> 0
A18: 15 | B18: =参加者名簿!B26 -> 0 | C18: =参加者名簿!G26 -> 0 | D18: =参加者名簿!H26 -> 0 | F18: =参加者名簿!$N$27 -> 0 | I18: =参加者名簿!J26 -> ＜選択してください＞ | J18: =基本概要!$C$4 -> 0
A19: 16 | B19: =参加者名簿!B27 -> 0 | C19: =参加者名簿!G27 -> 0 | D19: =参加者名簿!H27 -> 0 | F19: =参加者名簿!$N$28 -> 0 | I19: =参加者名簿!J27 -> ＜選択してください＞ | J19: =基本概要!$C$4 -> 0

Sheet 派遣依頼書
H1: No | I1: 1
G2: =NOW() -> 44717.333
A3: =VLOOKUP(I1,参加者名簿!A7:M27,11,0) -> 0
A4: =VLOOKUP(I1,参加者名簿!A7:M27,12,0) -> 0 | D4: 殿
A8: =基本概要!C4 -> 0
A9: 貴所属選手の派遣について（依頼）
A11: 平素から本会の諸事業に対しご理解とご協力を頂きお礼申し上げます。さて、標記事業を実施することとなりましたので、下記の通り、貴所属選手を派遣いただきたく、ご了解頂けますようお願い申し上げます。
A14: 記
B16: １．派遣対象者： | D16: =VLOOKUP(I1,参加者名簿!A7:M27,2,0) -> 0
B17: ２．派遣事業： | D17: =基本概要!C4 -> 0
B18: ３．派遣主体： | D18: 公益社団法人日本トライアスロン連合（JTU)
B19: ４．事業区分： | D19: =基本概要!C7 -> ＜助成事業一覧＞
B20: ５．実施場所： | D20: =基本概要!C13 -> 0
B21: ６．期間： | D21: =基本概要!F10 -> 2022/05/15(日)〜05/16(月)
B22: ７．派遣形態： | D22: =VLOOKUP(I1,参加者名簿!A7:M27,10,0) -> 公費（JOC）
B23: ８．保険： | D23: =基本概要!C25 -> JTUが国内旅行保険に加入。 ＜保険の補償内容と金額＞ https://www.jtu.or.jp/wordpress/wp-content/uploads/2020/08/hoken-gassyuku.pdf
B24: ９．備考： | D24: =[1]基本事項!C9 -> #REF!
I28: 本件担当 ： ＪＴＵ事務局長 佐藤
I29: 〒160-0013 東京都新宿区霞ヶ丘町４－２ Japan Sport Olympic Square ７０８
I30: 電話：03-5786-0515（代） Fax：03-5786-0516
I31: Eメール：jtuoffice01@jtu.or.jp
