Workbook

Sheet 発注書【見本】
E3: 提出日 | F3: 2025 | G3: 年 | H3: 1 | I3: 月 | J3: 1 | K3: 日
B6: 発注情報
B7: 大会名 | E7: 第31回日本トライアスロン選手権（2025/東京・台場）
B8: 開催日 | E8: 2025 | F8: 年 | G8: 10 | H8: 月 | I8: 26 | J8: 日 | K8: （日）
B9: 依頼品数量 | E9: 500ML | F9: 211 | H9: ケース | I9: ※1ケース24本入り | N9: ←自動反映
B10: 納品日 | E10: 2025 | F10: 年 | G10: 10 | H10: 月 | I10: 24 | J10: 日 | K10: （金）
B11: 納品場所住所 | E11: 東京都江東区 青海Ｆ1-S区画
E12: ＊隣の東京合同港湾庁舎 〒135-0064東京都江東区青海2丁目7-11
E13: 船橋支店 | L13: ←営業所止め希望の場合
E14: =VLOOKUP(E13,西濃運輸営業所一覧!A3:C248,3,FALSE) -> 千葉県船橋市豊富町６８８ | N14: ←自動反映
B15: 受取担当者 | E15: JTU事務局 ●●
B16: 担当者電話番号 | E16: ○○○ｰ○○○○ｰ○○○○
B17: フォークリフトの有無/ 応援人員 | E17: 無し
E18: 応援人員 | G18: {=_xlfn.IFS(AND(E17="無し",F9<100),2,AND(E17="無し",F9>=100),4,E17="有り",0)} -> 4 | H18: 名 | N18: ←自動反映
E19: ＊ただし、下記連絡欄にて別途依頼があった場合はその指示に従うこと
B20: 備考
B22: 納品方法 (配送元回答連絡欄） ※大会事務局未記入 | E22: チャーター便（4トン車/10トン車） ・ 路線便
E23: 配送担当支店：
E24: その他連絡事項：
B26: 発注書送付先
B27: TO： | C27: JTUエイジNCS総合窓口 | G27: event-info@jtu.or.jp
B29: 納品先地図

Sheet 発注書【記入用➀】
E3: 提出日 | F3: 2025 | G3: 年 | I3: 月 | K3: 日
B5: ※必ず注意事項（別途添付）をご確認ください。黄色のセルに入力してください。
B6: 発注情報
B7: 大会名
B8: 開催日 | E8: 2025 | F8: 年 | H8: 月 | J8: 日 | K8: （）
B9: 依頼品数量 | E9: 500ML | F9: =算出用シート【エイジ】!K109+算出用シート【エリート】!G28 -> 0 | H9: ケース | I9: ※1ケース24本入り | N9: ←自動反映
B10: 納品日/受け取り希望日 | E10: 2025 | F10: 年 | H10: 月 | J10: 日 | K10: （）
B11: 納品場所住所
L13: ←営業所止め希望の場合
E14: =VLOOKUP(E13,西濃運輸営業所一覧!A3:C248,3,FALSE) -> #N/A | N14: ←自動反映
B15: 納品/受け取り希望時間
B16: 受取担当者
B17: 担当者電話番号
B18: フォークリフトの有無/ 応援人員 | G18: ＊フォークありの場合、大会側の免許保有者がフォークを運転し運搬すること
E19: 応援人員 | G19: {=_xlfn.IFS(AND(E18="無し",F9<100),2,AND(E18="無し",F9>=100),4,E18="有り",0)} -> #N/A | H19: 名 | N19: ←自動反映
E20: ＊ただし、下記連絡欄にて別途依頼があった場合はその指示に従うこと
B21: 備考
B23: 納品方法 (配送元回答連絡欄） ※大会事務局未記入 | E23: チャーター便（4トン車/10トン車） ・ 路線便
E24: 配送担当支店：
E25: その他連絡事項：
B27: 発注書送付先
B28: TO： | C28: JTUエイジNCS総合窓口 | G28: event-info@jtu.or.jp
B30: 納品先地図

Sheet 発注書【記入用②】
E3: 提出日 | F3: 2025 | G3: 年 | H3: =発注書【記入用➀】!H3 -> 0 | I3: 月 | J3: =発注書【記入用➀】!J3 -> 0 | K3: 日
B5: ※必ず注意事項（別途添付）をご確認ください。黄色のセルに入力してください。
B6: 発注情報
B7: 大会名 | E7: =発注書【記入用➀】!E7 -> 0
B8: 開催日 | E8: 2025 | F8: 年 | G8: =発注書【記入用➀】!G8 -> 0 | H8: 月 | I8: =発注書【記入用➀】!I8 -> 0 | J8: 日 | K8: =発注書【記入用➀】!K8 -> （）
B9: 依頼品数量 | E9: 500ML | F9: =発注書【記入用➀】!F9 -> 0 | H9: ケース | I9: ※1ケース24本入り | N9: ←自動反映
B10: 納品日 | E10: 2025 | F10: 年 | H10: 月 | J10: 日 | K10: （）
B11: 納品場所住所
L13: ←営業所止め希望の場合
E14: =VLOOKUP(E13,西濃運輸営業所一覧!A3:C248,3,FALSE) -> #N/A | N14: ←自動反映
B15: 受取担当者
B16: 担当者電話番号
B17: フォークリフトの有無/ 応援人員
E18: 応援人員 | G18: {=_xlfn.IFS(AND(E17="無し",F9<100),2,AND(E17="無し",F9>=100),4,E17="有り",0)} -> #N/A | H18: 名 | N18: ←自動反映
E19: ＊ただし、下記連絡欄にて別途依頼があった場合はその指示に従うこと
B20: 備考
B22: 納品方法 (配送元回答連絡欄） ※大会事務局未記入 | E22: チャーター便（4トン車/10トン車） ・ 路線便
E23: 配送担当支店：
E24: その他連絡事項：
B26: 発注書送付先
B27: TO： | C27: JTUエイジNCS総合窓口 | G27: event-info@jtu.or.jp
B29: 納品先地図

Sheet 西濃運輸営業所一覧
A1: 営業所名 | B1: 店所 コード | C1: 住所 | D1: 引取受付時間
D2: 平日 | E2: 土曜 | F2: 日祝
A3: 札幌支店（北海道） | B3: V120 | C3: 北海道札幌市白石区川下２１６５－１ | D3: 24時間 | E3: 24時間 | F3: 24時間
A4: 旭川支店（北海道） | B4: V155 | C4: 北海道旭川市永山北３条８丁目１番地２ | D4: 24時間 | E4: 24時間 | F4: 08:00 ～ 17:00
A5: 釧路営業所（北海道） | B5: V158 | C5: 北海道釧路市星が浦南２－７－１１ | D5: 08:00 ～ 19:00 | E5: 08:00 ～ 19:00 | F5: 08:00 ～ 17:00
A6: 帯広営業所（北海道） | B6: V161 | C6: 北海道河西郡芽室町東芽室基線２１－１ | D6: 08:00 ～ 19:00 | E6: 08:00 ～ 17:00 | F6: 08:00 ～ 17:00
A7: 札幌西支店（北海道） | B7: V166 | C7: 北海道札幌市西区発寒１５条１４－４－１ | D7: 24時間 | E7: 24時間 | F7: 24時間
A8: 小樽営業所（北海道） | B8: V168 | C8: 北海道小樽市築港８－６ | D8: 08:00 ～ 18:00 | E8: 08:00 ～ 17:00 | F8: 08:00 ～ 17:00
A9: 室蘭営業所（北海道） | B9: V171 | C9: 北海道登別市大和町１－２－１５ | D9: 08:00 ～ 18:00 | E9: 08:00 ～ 17:00 | F9: お取り扱いできません
A10: 苫小牧支店（北海道） | B10: V173 | C10: 北海道苫小牧市新明町１－１－１１ | D10: 24時間 | E10: 24時間 | F10: 08:00 ～ 17:00
A11: 函館支店（北海道） | B11: V176 | C11: 北海道北斗市追分５丁目５番２４号 | D11: 08:00 ～ 20:00 | E11: 08:00 ～ 19:00 | F11: 08:00 ～ 17:00
A12: 空知荷扱所（北海道） | B12: V180 | C12: 北海道美唄市東６条北５－３－１ | D12: 08:00 ～ 17:00 | E12: 08:00 ～ 12:00 | F12: お取り扱いできません
A13: 北見営業所（北海道） | B13: V188 | C13: 北海道北見市東相内町９３７番地１ | D13: 08:00 ～ 17:00 | E13: 08:00 ～ 17:00 | F13: 08:00 ～ 17:00
A14: 青森支店 | B14: 0120 | C14: 青森県青森市野内菊川２７－１ | D14: 24時間 | E14: 24時間 | F14: 24時間
... A248: うるま営業所（沖縄） | B248: Q993 | C248: 沖縄県うるま市字州崎１２番地１２ | D248: 08:30 ～ 19:00 | E248: 08:30 ～ 17:30 | F248: 08:30 ～ 17:30

Sheet 算出用シート【見本】
B2: エイド種別 | C2: カテゴリー | D2: 場所 | E2: 人数 | F2: 回数 | G2: 取る割合 | H2: 合計(杯) | I2: 紙コップ大きさ | J2: 容量(ml) | K2: 必要量(ml) | L2: 備考
B3: スイム | C3: スタンダード | D3: スタート前 | E3: 450 | F3: 1 | G3: 0.8 | H3: =E3*F3*G3 -> 360 | I3: 7オンス | J3: {=_xlfn.IFS(I3="7オンス",205,I3="8オンス",240,I3="9オンス",275,I3="",0,I3="500ml給水",500)} -> 205 | K3: =H3*J3 -> 73800
D4: 1周時 | E4: 450 | F4: 1 | G4: 0.8 | H4: =E4*F4*G4 -> 360 | I4: 7オンス | J4: {=_xlfn.IFS(I4="7オンス",205,I4="8オンス",240,I4="9オンス",275,I4="",0,I4="500ml給水",500)} -> 205 | K4: =H4*J4 -> 73800
D5: FIN | E5: 450 | F5: 1 | G5: 1 | H5: =E5*F5*G5 -> 450 | I5: 7オンス | J5: {=_xlfn.IFS(I5="7オンス",205,I5="8オンス",240,I5="9オンス",275,I5="",0,I5="500ml給水",500)} -> 205 | K5: =H5*J5 -> 92250
C6: スプリント | D6: スタート前 | E6: 200 | F6: 1 | G6: 0.8 | H6: =E6*F6*G6 -> 160 | I6: 7オンス | J6: {=_xlfn.IFS(I6="7オンス",205,I6="8オンス",240,I6="9オンス",275,I6="",0,I6="500ml給水",500)} -> 205 | K6: =H6*J6 -> 32800
D7: FIN | E7: 200 | F7: 1 | G7: 1 | H7: =E7*F7*G7 -> 200 | I7: 7オンス | J7: {=_xlfn.IFS(I7="7オンス",205,I7="8オンス",240,I7="9オンス",275,I7="",0,I7="500ml給水",500)} -> 205 | K7: =H7*J7 -> 41000
C8: リレー | D8: スタート前 | E8: 30 | F8: 1 | G8: 0.8 | H8: =E8*F8*G8 -> 24 | I8: 7オンス | J8: {=_xlfn.IFS(I8="7オンス",205,I8="8オンス",240,I8="9オンス",275,I8="",0,I8="500ml給水",500)} -> 205 | K8: =H8*J8 -> 4920
D9: 1周時 | E9: 30 | F9: 1 | G9: 0.8 | H9: =E9*F9*G9 -> 24 | I9: 7オンス | J9: {=_xlfn.IFS(I9="7オンス",205,I9="8オンス",240,I9="9オンス",275,I9="",0,I9="500ml給水",500)} -> 205 | K9: =H9*J9 -> 4920
D10: FIN | E10: 30 | F10: 1 | G10: 1 | H10: =E10*F10*G10 -> 30 | I10: 7オンス | J10: {=_xlfn.IFS(I10="7オンス",205,I10="8オンス",240,I10="9オンス",275,I10="",0,I10="500ml給水",500)} -> 205 | K10: =H10*J10 -> 6150
C11: キッズ・ジュニア | D11: スタート前 | E11: 30 | F11: 1 | G11: 1 | H11: =E11*F11*G11 -> 30 | I11: 7オンス | J11: {=_xlfn.IFS(I11="7オンス",205,I11="8オンス",240,I11="9オンス",275,I11="",0,I11="500ml給水",500)} -> 205 | K11: =H11*J11 -> 6150
D12: FIN | E12: 30 | F12: 1 | G12: 1 | H12: =E12*F12*G12 -> 30 | I12: 7オンス | J12: {=_xlfn.IFS(I12="7オンス",205,I12="8オンス",240,I12="9オンス",275,I12="",0,I12="500ml給水",500)} -> 205 | K12: =H12*J12 -> 6150
H13: =E13*F13*G13 -> 0 | J13: {=_xlfn.IFS(I13="7オンス",205,I13="8オンス",240,I13="9オンス",275,I13="",0,I13="500ml給水",500)} -> 0 | K13: =H13*J13 -> 0
H14: =E14*F14*G14 -> 0 | J14: {=_xlfn.IFS(I14="7オンス",205,I14="8オンス",240,I14="9オンス",275,I14="",0,I14="500ml給水",500)} -> 0 | K14: =H14*J14 -> 0
H15: =E15*F15*G15 -> 0 | J15: {=_xlfn.IFS(I15="7オンス",205,I15="8オンス",240,I15="9オンス",275,I15="",0,I15="500ml給水",500)} -> 0 | K15: =H15*J15 -> 0
H16: =E16*F16*G16 -> 0 | J16: {=_xlfn.IFS(I16="7オンス",205,I16="8オンス",240,I16="9オンス",275,I16="",0,I16="500ml給水",500)} -> 0 | K16: =H16*J16 -> 0
H17: =E17*F17*G17 -> 0 | J17: {=_xlfn.IFS(I17="7オンス",205,I17="8オンス",240,I17="9オンス",275,I17="",0,I17="500ml給水",500)} -> 0 | K17: =H17*J17 -> 0
H18: =E18*F18*G18 -> 0 | J18: {=_xlfn.IFS(I18="7オンス",205,I18="8オンス",240,I18="9オンス",275,I18="",0,I18="500ml給水",500)} -> 0 | K18: =H18*J18 -> 0
H19: =E19*F19*G19 -> 0 | J19: {=_xlfn.IFS(I19="7オンス",205,I19="8オンス",240,I19="9オンス",275,I19="",0,I19="500ml給水",500)} -> 0 | K19: =H19*J19 -> 0
H20: =E20*F20*G20 -> 0 | J20: {=_xlfn.IFS(I20="7オンス",205,I20="8オンス",240,I20="9オンス",275,I20="",0,I20="500ml給水",500)} -> 0 | K20: =H20*J20 -> 0
C21: スイム合計 | H21: =SUM(H3:H20) -> 1668 | K21: =SUM(K3:K20) -> 341940
B22: ラン | C22: スタンダード | D22: エイド1 | E22: 450 | F22: 4 | G22: 0.9 | H22: =E22*F22*G22 -> 1620 | I22: 7オンス | J22: {=_xlfn.IFS(I22="7オンス",205,I22="8オンス",240,I22="9オンス",275,I22="",0,I22="500ml給水",500)} -> 205 | K22: =H22*J22 -> 332100
D23: エイド2 | E23: 450 | F23: 4 | G23: 0.9 | H23: =E23*F23*G23 -> 1620 | I23: 7オンス | J23: {=_xlfn.IFS(I23="7オンス",205,I23="8オンス",240,I23="9オンス",275,I23="",0,I23="500ml給水",500)} -> 205 | K23: =H23*J23 -> 332100
D24: エイド3 | E24: 450 | F24: 4 | G24: 0.9 | H24: =E24*F24*G24 -> 1620 | I24: 7オンス | J24: {=_xlfn.IFS(I24="7オンス",205,I24="8オンス",240,I24="9オンス",275,I24="",0,I24="500ml給水",500)} -> 205 | K24: =H24*J24 -> 332100
C25: スプリント | D25: エイド1 | E25: 200 | F25: 2 | G25: 0.9 | H25: =E25*F25*G25 -> 360 | I25: 7オンス | J25: {=_xlfn.IFS(I25="7オンス",205,I25="8オンス",240,I25="9オンス",275,I25="",0,I25="500ml給水",500)} -> 205 | K25: =H25*J25 -> 73800
D26: エイド2 | E26: 200 | F26: 2 | G26: 0.9 | H26: =E26*F26*G26 -> 360 | I26: 7オンス | J26: {=_xlfn.IFS(I26="7オンス",205,I26="8オンス",240,I26="9オンス",275,I26="",0,I26="500ml給水",500)} -> 205 | K26: =H26*J26 -> 73800
D27: エイド3 | E27: 200 | F27: 2 | G27: 0.9 | H27: =E27*F27*G27 -> 360 | I27: 7オンス | J27: {=_xlfn.IFS(I27="7オンス",205,I27="8オンス",240,I27="9オンス",275,I27="",0,I27="500ml給水",500)} -> 205 | K27: =H27*J27 -> 73800
C28: リレー | D28: エイド1 | E28: 30 | F28: 4 | G28: 0.9 | H28: =E28*F28*G28 -> 108 | I28: 7オンス | J28: {=_xlfn.IFS(I28="7オンス",205,I28="8オンス",240,I28="9オンス",275,I28="",0,I28="500ml給水",500)} -> 205 | K28: =H28*J28 -> 22140
D29: エイド2 | E29: 30 | F29: 4 | G29: 0.9 | H29: =E29*F29*G29 -> 108 | I29: 7オンス | J29: {=_xlfn.IFS(I29="7オンス",205,I29="8オンス",240,I29="9オンス",275,I29="",0,I29="500ml給水",500)} -> 205 | K29: =H29*J29 -> 22140
D30: エイド3 | E30: 30 | F30: 4 | G30: 0.9 | H30: =E30*F30*G30 -> 108 | I30: 7オンス | J30: {=_xlfn.IFS(I30="7オンス",205,I30="8オンス",240,I30="9オンス",275,I30="",0,I30="500ml給水",500)} -> 205 | K30: =H30*J30 -> 22140
C31: キッズ・ジュニア | D31: エイド1 | E31: 30 | F31: 2 | G31: 0.9 | H31: =E31*F31*G31 -> 54 | I31: 7オンス | J31: {=_xlfn.IFS(I31="7オンス",205,I31="8オンス",240,I31="9オンス",275,I31="",0,I31="500ml給水",500)} -> 205 | K31: =H31*J31 -> 11070
D32: エイド2 | E32: 30 | F32: 2 | G32: 0.9 | H32: =E32*F32*G32 -> 54 | I32: 7オンス | J32: {=_xlfn.IFS(I32="7オンス",205,I32="8オンス",240,I32="9オンス",275,I32="",0,I32="500ml給水",500)} -> 205 | K32: =H32*J32 -> 11070
H33: =E33*F33*G33 -> 0 | J33: {=_xlfn.IFS(I33="7オンス",205,I33="8オンス",240,I33="9オンス",275,I33="",0,I33="500ml給水",500)} -> 0 | K33: =H33*J33 -> 0
H34: =E34*F34*G34 -> 0 | J34: {=_xlfn.IFS(I34="7オンス",205,I34="8オンス",240,I34="9オンス",275,I34="",0,I34="500ml給水",500)} -> 0 | K34: =H34*J34 -> 0
H35: =E35*F35*G35 -> 0 | J35: {=_xlfn.IFS(I35="7オンス",205,I35="8オンス",240,I35="9オンス",275,I35="",0,I35="500ml給水",500)} -> 0 | K35: =H35*J35 -> 0
H36: =E36*F36*G36 -> 0 | J36: {=_xlfn.IFS(I36="7オンス",205,I36="8オンス",240,I36="9オンス",275,I36="",0,I36="500ml給水",500)} -> 0 | K36: =H36*J36 -> 0
H37: =E37*F37*G37 -> 0 | J37: {=_xlfn.IFS(I37="7オンス",205,I37="8オンス",240,I37="9オンス",275,I37="",0,I37="500ml給水",500)} -> 0 | K37: =H37*J37 -> 0
H38: =E38*F38*G38 -> 0 | J38: {=_xlfn.IFS(I38="7オンス",205,I38="8オンス",240,I38="9オンス",275,I38="",0,I38="500ml給水",500)} -> 0 | K38: =H38*J38 -> 0
H39: =E39*F39*G39 -> 0 | J39: {=_xlfn.IFS(I39="7オンス",205,I39="8オンス",240,I39="9オンス",275,I39="",0,I39="500ml給水",500)} -> 0 | K39: =H39*J39 -> 0
H40: =E40*F40*G40 -> 0 | J40: {=_xlfn.IFS(I40="7オンス",205,I40="8オンス",240,I40="9オンス",275,I40="",0,I40="500ml給水",500)} -> 0 | K40: =H40*J40 -> 0
H41: =E41*F41*G41 -> 0 | J41: {=_xlfn.IFS(I41="7オンス",205,I41="8オンス",240,I41="9オンス",275,I41="",0,I41="500ml給水",500)} -> 0 | K41: =H41*J41 -> 0
...

Sheet 算出用シート【エイジ】
A2: 大会名 | B2: =発注書【記入用➀】!E7 -> 0 | D2: 黄色のセルに入力してください
B4: エイド種別 | C4: カテゴリー | D4: 場所 | E4: 人数 | F4: 回数 | G4: 取る割合 | H4: 合計(杯) | I4: 紙コップ大きさ | J4: 容量(ml) | K4: 必要量(ml) | L4: 備考
B5: スイム | H5: =E5*F5*G5 -> 0 | J5: {=_xlfn.IFS(I5="7オンス",205,I5="8オンス",240,I5="9オンス",275,I5="",0,I5="500ml給水",500)} -> 0 | K5: =H5*J5 -> 0
H6: =E6*F6*G6 -> 0 | J6: {=_xlfn.IFS(I6="7オンス",205,I6="8オンス",240,I6="9オンス",275,I6="",0,I6="500ml給水",500)} -> 0 | K6: =H6*J6 -> 0
H7: =E7*F7*G7 -> 0 | J7: {=_xlfn.IFS(I7="7オンス",205,I7="8オンス",240,I7="9オンス",275,I7="",0,I7="500ml給水",500)} -> 0 | K7: =H7*J7 -> 0
H8: =E8*F8*G8 -> 0 | J8: {=_xlfn.IFS(I8="7オンス",205,I8="8オンス",240,I8="9オンス",275,I8="",0,I8="500ml給水",500)} -> 0 | K8: =H8*J8 -> 0
H9: =E9*F9*G9 -> 0 | J9: {=_xlfn.IFS(I9="7オンス",205,I9="8オンス",240,I9="9オンス",275,I9="",0,I9="500ml給水",500)} -> 0 | K9: =H9*J9 -> 0
H10: =E10*F10*G10 -> 0 | J10: {=_xlfn.IFS(I10="7オンス",205,I10="8オンス",240,I10="9オンス",275,I10="",0,I10="500ml給水",500)} -> 0 | K10: =H10*J10 -> 0
H11: =E11*F11*G11 -> 0 | J11: {=_xlfn.IFS(I11="7オンス",205,I11="8オンス",240,I11="9オンス",275,I11="",0,I11="500ml給水",500)} -> 0 | K11: =H11*J11 -> 0
H12: =E12*F12*G12 -> 0 | J12: {=_xlfn.IFS(I12="7オンス",205,I12="8オンス",240,I12="9オンス",275,I12="",0,I12="500ml給水",500)} -> 0 | K12: =H12*J12 -> 0
H13: =E13*F13*G13 -> 0 | J13: {=_xlfn.IFS(I13="7オンス",205,I13="8オンス",240,I13="9オンス",275,I13="",0,I13="500ml給水",500)} -> 0 | K13: =H13*J13 -> 0
H14: =E14*F14*G14 -> 0 | J14: {=_xlfn.IFS(I14="7オンス",205,I14="8オンス",240,I14="9オンス",275,I14="",0,I14="500ml給水",500)} -> 0 | K14: =H14*J14 -> 0
H15: =E15*F15*G15 -> 0 | J15: {=_xlfn.IFS(I15="7オンス",205,I15="8オンス",240,I15="9オンス",275,I15="",0,I15="500ml給水",500)} -> 0 | K15: =H15*J15 -> 0
H16: =E16*F16*G16 -> 0 | J16: {=_xlfn.IFS(I16="7オンス",205,I16="8オンス",240,I16="9オンス",275,I16="",0,I16="500ml給水",500)} -> 0 | K16: =H16*J16 -> 0
H17: =E17*F17*G17 -> 0 | J17: {=_xlfn.IFS(I17="7オンス",205,I17="8オンス",240,I17="9オンス",275,I17="",0,I17="500ml給水",500)} -> 0 | K17: =H17*J17 -> 0
... H28: =E28*F28*G28 -> 0 | J28: {=_xlfn.IFS(I28="7オンス",205,I28="8オンス",240,I28="9オンス",275,I28="",0,I28="500ml給水",500)} -> 0 | K28: =H28*J28 -> 0
C29: スイム合計 | H29: =SUM(H5:H28) -> 0 | K29: =SUM(K5:K28) -> 0
B30: ラン | H30: =E30*F30*G30 -> 0 | J30: {=_xlfn.IFS(I30="7オンス",205,I30="8オンス",240,I30="9オンス",275,I30="",0,I30="500ml給水",500)} -> 0 | K30: =H30*J30 -> 0
H31: =E31*F31*G31 -> 0 | J31: {=_xlfn.IFS(I31="7オンス",205,I31="8オンス",240,I31="9オンス",275,I31="",0,I31="500ml給水",500)} -> 0 | K31: =H31*J31 -> 0
H32: =E32*F32*G32 -> 0 | J32: {=_xlfn.IFS(I32="7オンス",205,I32="8オンス",240,I32="9オンス",275,I32="",0,I32="500ml給水",500)} -> 0 | K32: =H32*J32 -> 0
H33: =E33*F33*G33 -> 0 | J33: {=_xlfn.IFS(I33="7オンス",205,I33="8オンス",240,I33="9オンス",275,I33="",0,I33="500ml給水",500)} -> 0 | K33: =H33*J33 -> 0
H34: =E34*F34*G34 -> 0 | J34: {=_xlfn.IFS(I34="7オンス",205,I34="8オンス",240,I34="9オンス",275,I34="",0,I34="500ml給水",500)} -> 0 | K34: =H34*J34 -> 0
H35: =E35*F35*G35 -> 0 | J35: {=_xlfn.IFS(I35="7オンス",205,I35="8オンス",240,I35="9オンス",275,I35="",0,I35="500ml給水",500)} -> 0 | K35: =H35*J35 -> 0
H36: =E36*F36*G36 -> 0 | J36: {=_xlfn.IFS(I36="7オンス",205,I36="8オンス",240,I36="9オンス",275,I36="",0,I36="500ml給水",500)} -> 0 | K36: =H36*J36 -> 0
H37: =E37*F37*G37 -> 0 | J37: {=_xlfn.IFS(I37="7オンス",205,I37="8オンス",240,I37="9オンス",275,I37="",0,I37="500ml給水",500)} -> 0 | K37: =H37*J37 -> 0
H38: =E38*F38*G38 -> 0 | J38: {=_xlfn.IFS(I38="7オンス",205,I38="8オンス",240,I38="9オンス",275,I38="",0,I38="500ml給水",500)} -> 0 | K38: =H38*J38 -> 0
H39: =E39*F39*G39 -> 0 | J39: {=_xlfn.IFS(I39="7オンス",205,I39="8オンス",240,I39="9オンス",275,I39="",0,I39="500ml給水",500)} -> 0 | K39: =H39*J39 -> 0
H40: =E40*F40*G40 -> 0 | J40: {=_xlfn.IFS(I40="7オンス",205,I40="8オンス",240,I40="9オンス",275,I40="",0,I40="500ml給水",500)} -> 0 | K40: =H40*J40 -> 0
H41: =E41*F41*G41 -> 0 | J41: {=_xlfn.IFS(I41="7オンス",205,I41="8オンス",240,I41="9オンス",275,I41="",0,I41="500ml給水",500)} -> 0 | K41: =H41*J41 -> 0
H42: =E42*F42*G42 -> 0 | J42: {=_xlfn.IFS(I42="7オンス",205,I42="8オンス",240,I42="9オンス",275,I42="",0,I42="500ml給水",500)} -> 0 | K42: =H42*J42 -> 0
... H66: =E66*F66*G66 -> 0 | J66: {=_xlfn.IFS(I66="7オンス",205,I66="8オンス",240,I66="9オンス",275,I66="",0,I66="500ml給水",500)} -> 0 | K66: =H66*J66 -> 0
C67: ラン合計 | H67: =SUM(H30:H66) -> 0 | K67: =SUM(K30:K66) -> 0
B68: フィニッシュ | H68: =E68*F68*G68 -> 0 | J68: {=_xlfn.IFS(I68="7オンス",205,I68="8オンス",240,I68="9オンス",275,I68="",0,I68="500ml給水",500)} -> 0 | K68: =H68*J68 -> 0
H69: =E69*F69*G69 -> 0 | J69: {=_xlfn.IFS(I69="7オンス",205,I69="8オンス",240,I69="9オンス",275,I69="",0,I69="500ml給水",500)} -> 0 | K69: =H69*J69 -> 0
H70: =E70*F70*G70 -> 0 | J70: {=_xlfn.IFS(I70="7オンス",205,I70="8オンス",240,I70="9オンス",275,I70="",0,I70="500ml給水",500)} -> 0 | K70: =H70*J70 -> 0
H71: =E71*F71*G71 -> 0 | J71: {=_xlfn.IFS(I71="7オンス",205,I71="8オンス",240,I71="9オンス",275,I71="",0,I71="500ml給水",500)} -> 0 | K71: =H71*J71 -> 0
H72: =E72*F72*G72 -> 0 | J72: {=_xlfn.IFS(I72="7オンス",205,I72="8オンス",240,I72="9オンス",275,I72="",0,I72="500ml給水",500)} -> 0 | K72: =H72*J72 -> 0
H73: =E73*F73*G73 -> 0 | J73: {=_xlfn.IFS(I73="7オンス",205,I73="8オンス",240,I73="9オンス",275,I73="",0,I73="500ml給水",500)} -> 0 | K73: =H73*J73 -> 0
H74: =E74*F74*G74 -> 0 | J74: {=_xlfn.IFS(I74="7オンス",205,I74="8オンス",240,I74="9オンス",275,I74="",0,I74="500ml給水",500)} -> 0 | K74: =H74*J74 -> 0
H75: =E75*F75*G75 -> 0 | J75: {=_xlfn.IFS(I75="7オンス",205,I75="8オンス",240,I75="9オンス",275,I75="",0,I75="500ml給水",500)} -> 0 | K75: =H75*J75 -> 0
...

Sheet 算出用シート【エリート】
C2: 黄色のセルに入力してください
B4: 使用場所 | C4: 場所 | D4: 人数 | E4: 本数 | F4: 必要量(本) | G4: ケース数 | H4: 備考
B5: スイムスタート | D5: 0 | E5: 0 | F5: 0 | G5: =ROUNDUP(F5/24, 0) -> 0
B6: エイドステーション1 | D6: 0 | E6: 0 | F6: 0 | G6: =ROUNDUP(F6/24, 0) -> 0
B7: エイドステーション2 | D7: 0 | E7: 0 | F7: 0 | G7: =ROUNDUP(F7/24, 0) -> 0
B8: エイドステーション3 | D8: 0 | E8: 0 | F8: 0 | G8: =ROUNDUP(F8/24, 0) -> 0
B9: アスリートラウンジ | D9: 0 | E9: 0 | F9: 0 | G9: =ROUNDUP(F9/24, 0) -> 0
B10: フィニッシュ | D10: 0 | E10: 0 | F10: 0 | G10: =ROUNDUP(F10/24, 0) -> 0
B11: リカバリーラウンジ | D11: 0 | E11: 0 | F11: =D11*E11 -> 0 | G11: =ROUNDUP(F11/24, 0) -> 0
B12: スイム救護 | D12: 0 | E12: 0 | F12: =D12*E12 -> 0 | G12: =ROUNDUP(F12/24, 0) -> 0
B13: フィニッシュ救護 | D13: 0 | E13: 0 | F13: 0 | G13: =ROUNDUP(F13/24, 0) -> 0
B14: ドーピング検査室 | D14: 0 | E14: 0 | F14: =D14*E14 -> 0 | G14: =ROUNDUP(F14/24, 0) -> 0
B15: メディア | D15: 0 | E15: 0 | F15: 0 | G15: =ROUNDUP(F15/24, 0) -> 0
B16: VIP | D16: 0 | E16: 0 | F16: 0 | G16: =ROUNDUP(F16/24, 0) -> 0
B17: ライフセーバー | D17: 0 | E17: 0 | F17: 0 | G17: =ROUNDUP(F17/24, 0) -> 0
B18: 競技説明会 | D18: 0 | E18: 0 | F18: 0 | G18: =ROUNDUP(F18/24, 0) -> 0
F19: =D19*E19 -> 0 | G19: =ROUNDUP(F19/24, 0) -> 0
F20: =D20*E20 -> 0 | G20: =ROUNDUP(F20/24, 0) -> 0
F21: =D21*E21 -> 0 | G21: =ROUNDUP(F21/24, 0) -> 0
F22: =D22*E22 -> 0 | G22: =ROUNDUP(F22/24, 0) -> 0
F23: =D23*E23 -> 0 | G23: =ROUNDUP(F23/24, 0) -> 0
F24: =D24*E24 -> 0 | G24: =ROUNDUP(F24/24, 0) -> 0
F25: =D25*E25 -> 0 | G25: =ROUNDUP(F25/24, 0) -> 0
F26: =D26*E26 -> 0 | G26: =ROUNDUP(F26/24, 0) -> 0
B27: 本数換算(500L) | F27: =SUM(F5:F26) -> 0
B28: ケース数（1ケース24本入り） | G28: =CEILING(SUM(G5:G26), 5) -> 0

Sheet 削除禁止
A3: 7オンス | B3: 205 | F3: 10時～12時
A4: 8オンス | B4: 240 | F4: 13時～15時
A5: 9オンス | B5: 275 | F5: 15時～17時
A6: 500ml給水 | B6: 500 | F6: 17時～19時
A7: マイボトル給水(300ML） | B7: 300 | F7: 19時～21時
